BEGIN:VCALENDAR
VERSION:2.0
PRODID:-//The Linux Foundation - ECPv4.6.18//NONSGML v1.0//EN
CALSCALE:GREGORIAN
METHOD:PUBLISH
X-WR-CALNAME:The Linux Foundation
X-ORIGINAL-URL:https://www.linuxfoundation.org
X-WR-CALDESC:Events for The Linux Foundation
BEGIN:VEVENT
DTSTART;VALUE=DATE:20180628
DTEND;VALUE=DATE:20180629
DTSTAMP:20180623T080029
CREATED:20180417T040210Z
LAST-MODIFIED:20180417T040515Z
UID:33237-1530144000-1530230399@www.linuxfoundation.org
SUMMARY:DPDK Summit
DESCRIPTION:2018 DPDK PRC Summit will take place in the China National Convention Center\, Beijing on June 28th. \nThe agenda will cover the latest developments to the DPDK and other related projects such as FD.io\, Lagopus\, OVS\, DPVS\, Tungsten Fabric and SPDK\, including plans for future releases\, and will provide an opportunity to hear from DPDK users who have used it in their applications. Learn more and register. \n
URL:https://www.linuxfoundation.org/calendar/dpdk-summit/
LOCATION:No.7 Tianchen East Road\, Chaoyang District\, Beijing\, +86 10 8437 3300\, Beijing 100105\, China
GEO:39.9996102;116.3916234
X-APPLE-STRUCTURED-LOCATION;VALUE=URI;X-ADDRESS=No.7 Tianchen East Road Chaoyang District Beijing +86 10 8437 3300 Beijing 100105 China;X-APPLE-RADIUS=500;X-TITLE=No.7 Tianchen East Road\, Chaoyang District:geo:116.3916234,39.9996102
CATEGORIES:LF Networking
ATTACH;FMTTYPE=image/png:https://www.linuxfoundation.org/wp-content/uploads/2018/04/DPDK.png
END:VEVENT
BEGIN:VEVENT
DTSTART;TZID=Europe/Moscow:20180705T180000
DTEND;TZID=Europe/Moscow:20180705T220000
DTSTAMP:20180623T080029
CREATED:20180621T231326Z
LAST-MODIFIED:20180621T231326Z
UID:34605-1530813600-1530828000@www.linuxfoundation.org
SUMMARY:OSN User Group Meetup  Moscow
DESCRIPTION:We are excited to announce our 1st Open Source Networking meetup based on our host – RAMBLER\, the first internet search engine in Russia: https://rambler-co.ru/en/. \nCome. Connect. Enjoy. Learn more and RSVP Here.  \nAgenda details: \n– 17:30 Socialisation. Meetings.\n– 18:00 The intro from Linux Foundation (by Heather Kirksey\, VP\, Ecosystem and Community at the Linux Foundation).\n– 18:15 Our experience with VFIO and DPDK(by Dmitry Kozluk from Bifit).\n– 19:00 Using Netconf/Yang with OpenDayLight (by Evgeny Zobnitsev from Factor Group).\n– 19:45 Introduce to RIB library. (by Vladimir Medvedkin from RAMBLER & Co).\n– 20:30 Q&A & Open Discussions.\n– 22:00 Close. \n
URL:https://www.linuxfoundation.org/calendar/osn-user-group-meetup-moscow/
LOCATION:9 bld. 1\, Varshavskoe Shosse\, Moscow\, +86 10 8437 3300\, Russian Federation
GEO:55.619378;37.6086111
X-APPLE-STRUCTURED-LOCATION;VALUE=URI;X-ADDRESS=9 bld. 1 Varshavskoe Shosse Moscow +86 10 8437 3300 Russian Federation;X-APPLE-RADIUS=500;X-TITLE=9 bld. 1\, Varshavskoe Shosse:geo:37.6086111,55.619378
ATTACH;FMTTYPE=image/png:https://www.linuxfoundation.org/wp-content/uploads/2018/04/OSN-UGs.png
END:VEVENT
BEGIN:VEVENT
DTSTART;TZID=America/Los_Angeles:20180716T150000
DTEND;TZID=America/Los_Angeles:20180716T173000
DTSTAMP:20180623T080029
CREATED:20180611T052219Z
LAST-MODIFIED:20180611T052219Z
UID:34413-1531753200-1531762200@www.linuxfoundation.org
SUMMARY:OSN User Group Meetup Portland
DESCRIPTION:We’re taking advantage of having the Community Leadership Summit (http://www.communityleadershipsummit.com/) and OSCON (https://conferences.oreilly.com/oscon/oscon-or) in town by having the next OSN User Group PDX meetup in downtown Portland\, on Monday\, July 16th from 3:00 – 5:30 PM. We’ll be meeting in the community area of Ned Space downtown where the Linux Foundation has a local office. Confirmed speakers so far include: \n–Jono Bacon\, Community Strategy Consultant\, Author\, and Speaker\n–Ray Paik\, Operations Manager\, The Linux Foundation\n–Marcus Williams\, SDN Software Engineer\, Intel\n–Randy Bias\, VP\, Technology and Strategy\, Cloud Software\, Juniper \nThis is a great chance to check in as a group\, discuss the latest innovations around the LF Networking projects\, and collaborate around best practices and approaches to open source development right here in Portland. Snack and drinks will be provided. Please RSVP here in meetup.com and help spread the word! Check back soon for updates to the agenda and we look forward to seeing many of you soon. Please send any questions to osnug@linuxfoundation.org \nLearn More and RSVP Here: https://www.meetup.com/osnug-portland/events/251559162/ \n
URL:https://www.linuxfoundation.org/calendar/osn-user-group-meetup-portland/
LOCATION:707 SW Washington St #1100\, Portland\, WA\, 98607\, United States
GEO:45.5210556;-122.6791797
X-APPLE-STRUCTURED-LOCATION;VALUE=URI;X-ADDRESS=707 SW Washington St #1100 Portland WA 98607 United States;X-APPLE-RADIUS=500;X-TITLE=707 SW Washington St #1100:geo:-122.6791797,45.5210556
CATEGORIES:LF Networking
ATTACH;FMTTYPE=image/png:https://www.linuxfoundation.org/wp-content/uploads/2018/04/OSN-UGs.png
END:VEVENT
BEGIN:VEVENT
DTSTART;VALUE=DATE:20180905
DTEND;VALUE=DATE:20180907
DTSTAMP:20180623T080029
CREATED:20180417T035017Z
LAST-MODIFIED:20180417T040403Z
UID:33226-1536105600-1536278399@www.linuxfoundation.org
SUMMARY:DPDK Userspace
DESCRIPTION:DPDK Userspace\, Dublin will be held September 5-6\, 2018. Unlike its name\, the userspace summit intends to gather users and developers. It is the main event\, dedicated to community discussions\, architects and maintainers. \nThe venue will be the same as for the last two years – The Clayton Hotel\, Ballsbridge\, Dublin. 
URL:https://www.linuxfoundation.org/calendar/dpdk-userspace-dublin/
LOCATION:Merrion Road\, Ballsbridge\,\, Dublin\, +86 10 8437 3300\, 4\, Ireland
GEO:53.3292313;-6.2308081
X-APPLE-STRUCTURED-LOCATION;VALUE=URI;X-ADDRESS=Merrion Road Ballsbridge Dublin +86 10 8437 3300 4 Ireland;X-APPLE-RADIUS=500;X-TITLE=Merrion Road\, Ballsbridge\,:geo:-6.2308081,53.3292313
CATEGORIES:LF Networking
ATTACH;FMTTYPE=image/png:https://www.linuxfoundation.org/wp-content/uploads/2018/04/DPDK.png
END:VEVENT
BEGIN:VEVENT
DTSTART;VALUE=DATE:20180925
DTEND;VALUE=DATE:20180928
DTSTAMP:20180623T080029
CREATED:20180410T053101Z
LAST-MODIFIED:20180410T053140Z
UID:33004-1537833600-1538092799@www.linuxfoundation.org
SUMMARY:Open Networking Summit Europe
DESCRIPTION:OPEN NETWORKING\nIntegrate\, Automate\, Accelerate \nOpen Networking Summit is the industry’s premier open networking event\, gathering enterprises\, service providers and cloud providers across the ecosystem to share learnings\, highlight innovation and discuss the future of Open Source Networking\, including SDN\, NFV\, orchestration and the automation of cloud\, network\, & IoT services. Learn more and register (early bird pricing expires August 4th). \n
URL:https://www.linuxfoundation.org/calendar/open-networking-summit-europe/
LOCATION:Europaplein 2-22\, Amsterdam\, +86 10 8437 3300\, 1078 GZ\, Netherlands
GEO:52.3434562;4.8901164
X-APPLE-STRUCTURED-LOCATION;VALUE=URI;X-ADDRESS=Europaplein 2-22 Amsterdam +86 10 8437 3300 1078 GZ Netherlands;X-APPLE-RADIUS=500;X-TITLE=Europaplein 2-22:geo:4.8901164,52.3434562
CATEGORIES:LF Networking
ATTACH;FMTTYPE=image/png:https://www.linuxfoundation.org/wp-content/uploads/2018/04/Screen-Shot-2018-04-09-at-10.21.08-PM.png
END:VEVENT
END:VCALENDAR